Workbook

Sheet 入力シート
A1: 官庁訪問面接シート【一般職】
A3: 官庁訪問前の業務概要説明の希望→ 有 ・ 無 | N3: 訪問日→
A4: ふりがな | O4: 写真貼付欄
A5: 氏 名 | Q5: 顔写真 貼付
A7: 生年月日
D8: （西暦 | F8: =IF(D7="","",YEAR(D7)) | H8: 年） | K8: （ | M8: 歳 | N8: ）
A9: 受験年度 | F9: 年度 | H9: 受験番号
A10: 試験区分 | D10: 事務九州 | H10: 試験地
A11: 現住所 | K11: 帰省先
A13: （固定電話） | K13: （固定電話）
A14: 携帯番号 | K14: メールアドレス
A16: 学 歴 | L16: 高等学校
M17: （ | N17: 西暦 | Q17: 年 | R17: 卒見 | T17: ）
F18: 専門学校 | L18: 学部 | S18: 学科
I19: （学年 | L19: 年） | M19: （ | N19: 西暦 | Q19: 年 | R19: 卒見 | T19: ）
F20: 短期大学 | L20: 学部 | S20: 学科
I21: （学年 | L21: 年） | M21: （ | N21: 西暦 | Q21: 年 | R21: 卒見 | T21: ）
M23: （ | Q23: 年 | T23: ）
A24: 職 歴 | B24: 西暦 | D24: 年 | F24: 月
B25: 西暦 | D25: 年 | F25: 月
B26: 西暦 | D26: 年 | F26: 月
A28: 志望官庁順 | G28: 訪問予定日 | K28: 他試験（司法・国・地方等）受験、受験予定
K29: 試験名称 | O29: １次試験日 | R29: 最終合格日
A30: 1 | O30: 第1次試験日 | R30: 最終合格日
A33: 2 | O33: 第1次試験日 | R33: 最終合格日
A36: 3 | O36: 第1次試験日 | R36: 最終合格日
A39: 4 | O39: 第1次試験日 | R39: 最終合格日
A42: 5 | K42: 民間就活状況 | O42: 民間就活実施
O44: 民間内々定
A48: 人事院を志望する理由
A50: 人事院の業務のうち、興味・関心のある分野
A53: 学生生活・アルバイト・サークル・部活動・旅行等で印象に残った体験又は自己ＰＲ
A56: 〔 事務使用欄 〕

Sheet 非表示シート
B1: 訪問者基礎情報 | AQ1: 訪問者就職活動状況
A2: ID | B2: 通しID | C2: 訪問日 | D2: 氏名 | E2: よみがな | F2: 生年月日 | G2: 年齢（自動計算） | H2: 受験年度 | I2: 試験区分 | J2: 受験番号 | K2: 整理番号 | L2: 現住所 | M2: 固定電話番号 | N2: 携帯電話番号 | O2: メールアドレス | P2: 帰省先住所 | Q2: 帰省先固定電話番号 | R2: 高校名 | S2: 卒業年 | T2: 大学名 | U2: 学部名 | V2: 学科等 | W2: 卒業（見込み）年 | X2: 大学院名 | Y2: 研究科等 | Z2: 専攻 | AA2: 修了（見込み）年 | AB2: その他学歴 | AC2: その他学歴年 | AD2: 職歴①時期 | AE2: 職歴①内容 | AF2: 職歴②時期 | AG2: 職歴②内容 | AH2: 職歴③時期 | AI2: 職歴③内容 | AJ2: 所属ゼミ 卒論・修論等テーマ | AK2: 部活・サークル等歴 | AL2: アルバイト歴 | AM2: 趣味・特技・資格 | AN2: 語学資格 | AO2: 海外経験 | AP2: その他特記事項 | AQ2: 志望官庁① | AR2: ①訪問予定日 | AS2: ①状況（次回予定、見込み） | AT2: 志望官庁② | AU2: ②訪問予定日 | AV2: ②状況（次回予定、見込み） | AW2: 志望官庁③ | AX2: ③訪問予定日 | AY2: ③状況（次回予定、見込み） | AZ2: 志望官庁④ | BA2: ④訪問予定日 | BB2: ④状況（次回予定、見込み） | BC2: 志望官庁⑤ | BD2: ⑤訪問予定日 | BE2: ⑤状況（次回予定、見込み） | BF2: 他試験① | BG2: 他試験② | BH2: 他試験③ | BI2: 他試験④ | BJ2: 民間就活 | BK2: 民間内々定 | BL2: 対面／オンライン | DH2: 取り組んだ点①（本人記載） | DI2: 取り組んだ点②（本人記載） | DJ2: 自己PR（本人記載）
D3: =IF(D4=0,"",D4) | E3: =IF(E4=0,"",E4) | F3: =IF(F4=0,"",F4) | G3: =IF(G4=0,"",G4) | H3: =IF(H4=0,"",H4) | I3: =IF(I4=0,"",I4) -> 事務九州 | J3: =IF(J4=0,"",J4) | K3: =IF(K4=0,"",K4) | ... Q3: =IF(Q4=0,"",Q4) | R3: =IF(R4=0,"",R4&"高等学校") | S3: =IF(S4=0,"",S4) | T3: =IF(T4=0,"",T4&"大学") | U3: =IF(U4=0,"",U4&"学部") | V3: =IF(V4=0,"",V4&"学科") | W3: =IF(W4=0,"",W4) | X3: =IF(X4=0,"",X4&"大学院") | Y3: =IF(Y4=0,"",Y4&"研究科") | Z3: =IF(Z4=0,"",Z4&"専攻") | AA3: =IF(AA4=0,"",AA4) | AB3: =IF(AB4=0,"",AB4) | AC3: =IF(AC4=0,"",AC4) | AD3: =IF(AD4=0,"",AD4) -> 年月 | AE3: =IF(AE4=0,"",AE4) | AF3: =IF(AF4=0,"",AF4) -> 年月 | AG3: =IF(AG4=0,"",AG4) | AH3: =IF(AH4=0,"",AH4) -> 年月 | ... AO3: =IF(AO4=0,"",AO4) -> #REF! | AQ3: =IF(AQ4=0,"",AQ4) -> #REF! | AR3: =IF(AR4=0,"",AR4) -> #REF! | AS3: =IF(AS4=0,"",AS4) -> #REF! | AT3: =IF(AT4=0,"",AT4) -> #REF! | AU3: =IF(AU4=0,"",AU4) -> #REF! | AV3: =IF(AV4=0,"",AV4) -> #REF! | AW3: =IF(AW4=0,"",AW4) -> #REF! | AX3: =IF(AX4=0,"",AX4) -> #REF! | ... BL3: =IF(BL4=0,"",BL4) -> #REF! | CF3: =IF(CF4=0,"",CF4) | DH3: =IF(DH4=0,"",DH4) -> #REF! | DI3: =IF(DI4=0,"",DI4) -> #REF! | DJ3: =IF(DJ4=0,"",DJ4)
D4: =入力シート!D5 -> 0 | E4: =入力シート!D4 -> 0 | F4: =入力シート!D7 -> 0 | G4: =入力シート!L8 -> 0 | H4: =入力シート!D9 -> 0 | I4: =入力シート!D10 -> 事務九州 | J4: =入力シート!K9 -> 0 | K4: =入力シート!K10 -> 0 | L4: =入力シート!A12 -> 0 | M4: =入力シート!D13 -> 0 | N4: =入力シート!D14 -> 0 | O4: =入力シート!N14 -> 0 | P4: =入力シート!K12 -> 0 | Q4: =入力シート!N13 -> 0 | R4: =入力シート!B16 -> 0 | S4: =入力シート!O17 -> 0 | T4: =入力シート!B18 -> 0 | U4: =入力シート!H18 -> 0 | V4: =入力シート!N18 -> 0 | W4: =入力シート!O19 -> 0 | X4: =入力シート!B20 -> 0 | Y4: =入力シート!H20 -> 0 | Z4: =入力シート!N20 -> 0 | AA4: =入力シート!O21 -> 0 | AB4: =入力シート!B22 -> 0 | AC4: =入力シート!O23 -> 0 | AD4: =入力シート!C24&"年"&入力シート!E24&"月" -> 年月 | AE4: =入力シート!G24 -> 0 | AF4: =入力シート!C25&"年"&入力シート!E25&"月" -> 年月 | AG4: =入力シート!G25 -> 0 | AH4: =入力シート!C26&"年"&入力シート!E26&"月" -> 年月 | AI4: =入力シート!G26 -> 0 | AJ4: =入力シート!#REF! -> #REF! | AK4: =入力シート!#REF! -> #REF! | AL4: =入力シート!#REF! -> #REF! | AM4: =入力シート!#REF! -> #REF! | AN4: =入力シート!#REF! -> #REF! | AO4: =入力シート!#REF! -> #REF! | AQ4: =入力シート!#REF! -> #REF! | AR4: =入力シート!#REF! -> #REF! | AS4: =入力シート!#REF! -> #REF! | AT4: =入力シート!#REF! -> #REF! | AU4: =入力シート!#REF! -> #REF! | AV4: =入力シート!#REF! -> #REF! | AW4: =入力シート!#REF! -> #REF! | AX4: =入力シート!#REF! -> #REF! | ... BL4: =入力シート!#REF! -> #REF! | CF4: =入力シート!A51 -> 0 | DH4: =入力シート!#REF! -> #REF! | DI4: =入力シート!#REF! -> #REF! | DJ4: =入力シート!A54 -> 0
