{"text_format":"2","workbook":"xlsx","n_sheets":1,"sheets":["参考１"],"not_rendered":{"charts":0,"images":0,"macros":0,"external_links":1,"defined_names":1,"comments":0,"pivot_tables":0},"unopened":[],"bounds":{"document_bytes":16777216,"sheet_cells":100000,"run_cost":"one","rows_first":2000,"rows_last":500,"rows_between":2000,"halvings":0,"cell_chars":16384,"cell_head_chars":4096},"cells_cut":0,"cells_raw":0,"read":"whole","date_system":"1900"}

{"sheet":"参考１","index":0,"n_rows":57,"n_cols":12,"rows_kept":57,"cut":false,"hidden":false,"merged":[[55,0,55,11],[56,0,56,11],[57,0,57,11],[58,0,58,11],[59,0,59,11],[60,0,60,11],[49,5,49,6],[50,5,50,6],[51,3,51,7],[52,0,52,7],[53,0,53,11],[54,0,54,11],[22,0,51,2],[22,3,23,3],[22,4,23,4],[22,5,23,5],[24,3,50,3],[24,4,25,4],[24,5,24,6],[25,5,25,6],[26,5,26,6],[39,5,39,6],[40,5,40,6],[41,5,41,6],[42,4,48,4],[42,5,43,5],[44,5,45,5],[46,5,47,5],[48,5,48,6],[38,5,38,6],[28,4,30,4],[28,5,28,6],[29,5,29,6],[30,5,30,6],[31,5,31,6],[32,4,33,4],[32,5,32,6],[33,5,33,6],[34,5,34,6],[35,4,36,4],[35,5,35,6],[36,5,36,6],[37,5,37,6],[27,5,27,6],[16,5,16,6],[17,4,18,4],[17,5,18,5],[19,5,19,6],[20,5,20,6],[21,3,21,7],[15,5,15,6],[4,0,21,2],[4,3,6,3],[4,5,4,6],[5,4,6,4],[5,5,5,6],[6,5,6,6],[7,3,20,3],[7,5,7,6],[8,5,8,6],[9,5,9,6],[10,5,10,6],[11,5,11,6],[12,5,12,6],[13,5,13,6],[14,5,14,6],[0,0,0,11],[1,9,1,10],[2,0,3,6],[2,7,3,7],[2,8,2,10],[2,11,3,11]]}
["研修ごとの年度別留学開始状況"]
[{"$nulls":11},"（件）"]
["研　　修　　の　　名　　称",{"$nulls":6},"留 学 期 間","当該年度に留学を開始した件数",null,null,"総    数"]
[{"$nulls":8},"平成18年度\n（平成18年６月19日以降）\n～\n令和元年度","令和２年度","令和３年度"]
["在　　　　外",null,null,"全府省\n等研修","人事院","行政官長期在外研究員制度",null,"原則２年",{"$f":"[1]R3!I5+[1]R3!J5","v":1884},{"$f":"[1]R3!K5","v":120},163,{"$f":"SUM(I5:K5)","v":2167}]
[{"$nulls":4},"文部科学省","宇宙関係在外研究員派遣制度",null,"１年",{"$f":"[1]R3!I6+[1]R3!J6","v":2},{"$f":"[1]R3!K6","v":0},0,2]
[{"$nulls":5},"原子力関係在外研究員派遣制度",null,"１年",{"$f":"[1]R3!I7+[1]R3!J7","v":3},{"$f":"[1]R3!K7","v":1},0,4]
[null,null,null,"自　　府　　省　　等　　研　　修","会計検査院","海外大学院等派遣研修",null,"原則17か月",{"$f":"[1]R3!I8+[1]R3!J8","v":12},{"$f":"[1]R3!K8","v":1},1,14]
[{"$nulls":4},"警察庁","海外調査研究",null,"１年",{"$f":"[1]R3!I9+[1]R3!J9","v":21},{"$f":"[1]R3!K9","v":1},3,25]
[{"$nulls":4},"金融庁","在外研究員制度",null,"１年",{"$f":"[1]R3!I10+[1]R3!J10","v":53},{"$f":"[1]R3!K10","v":3},6,62]
[{"$nulls":4},"法務省","検事在外研究員（米国大学院コース）派遣制度",null,"原則１年",{"$f":"[1]R3!I11+[1]R3!J11","v":2},{"$f":"[1]R3!K11","v":0},0,2]
[{"$nulls":4},"財務省","在外研究員制度",null,"１年又は２年",{"$f":"[1]R3!I12+[1]R3!J12","v":93},{"$f":"[1]R3!K12","v":6},7,106]
[{"$nulls":4},"国税庁","在外研究員制度",null,"原則1年",{"$f":"[1]R3!I13+[1]R3!J13","v":48},{"$f":"[1]R3!K13","v":0},5,53]
[{"$nulls":4},"経済産業省","海外調査研究員制度",null,"原則1年",{"$f":"[1]R3!I14+[1]R3!J14","v":35},{"$f":"[1]R3!K14","v":2},0,37]
[{"$nulls":4},"特許庁","外国大学院課程履修研修",null,"１年又は２年",{"$f":"[1]R3!I15+[1]R3!J15","v":58},2,4,64]
[{"$nulls":4},"原子力規制庁","原子力規制委員会職員長期在外研究員制度",null,"２年又は３年",{"$f":"[1]R3!I16+[1]R3!J16","v":4},{"$f":"[1]R3!K16","v":0},1,5]
[{"$nulls":4},"外務省","在外研修",null,"２年又は３年",{"$f":"[1]R3!I17+[1]R3!J17","v":950},{"$f":"[1]R3!K17","v":74},76,1100]
[{"$nulls":4},"防衛省","国外一般大学留学","（修士課程）","１年又は２年",{"$f":"[1]R3!I18+[1]R3!J18","v":152},{"$f":"[1]R3!K18","v":12},12,176]
[{"$nulls":6},"（博士課程）","原則３年",{"$f":"[1]R3!I19+[1]R3!J19","v":22},{"$f":"[1]R3!K19","v":3},3,28]
[{"$nulls":4},"裁判所","判事補海外留学研究員制度",null,"１年",{"$f":"[1]R3!I20+[1]R3!J20","v":14},{"$f":"[1]R3!K20","v":0},1,15]
[{"$nulls":4},"国立印刷局","長期海外派遣研修",null,"原則２年",{"$f":"[1]R3!I21+[1]R3!J21","v":4},{"$f":"[1]R3!K21","v":0},0,4]
[null,null,null,"小　　        　計",{"$nulls":4},{"$f":"SUM(I5:I21)","v":3357},{"$f":"SUM(J5:J21)","v":225},{"$f":"SUM(K5:K21)","v":282},{"$f":"SUM(L5:L21)","v":3864}]
["国　　　　内",null,null,"全府省等研修","人事院","行政官国内研究員制度","（修士課程コース）","２年以内",{"$f":"[1]R3!I23+[1]R3!J23","v":197},{"$f":"[1]R3!K23","v":13},13,{"$f":"SUM(I23:K23)","v":223}]
[{"$nulls":6},"（博士課程コース）","３年以内",{"$f":"[1]R3!I24+[1]R3!J24","v":37},{"$f":"[1]R3!K24","v":3},4,44]
[null,null,null,"自　　府　　省　　等　　研　　修","会計検査院","会計専門職大学院派遣研修",null,"原則２年",{"$f":"[1]R3!I25+[1]R3!J25","v":22},{"$f":"[1]R3!K25","v":0},1,23]
[{"$nulls":5},"公共政策大学院（国際プログラム）派遣研修",null,"原則２年",{"$f":"[1]R3!I26+[1]R3!J26","v":2},{"$f":"[1]R3!K26","v":1},0,3]
[{"$nulls":4},"警察庁","情報通信職員国内大学院派遣制度",null,"２年",{"$f":"[1]R3!I27+[1]R3!J27","v":3},{"$f":"[1]R3!K27","v":1},0,4]
[{"$nulls":4},"金融庁","国内大学院派遣制度",null,"２年",{"$f":"[1]R3!I28+[1]R3!J28","v":49},{"$f":"[1]R3!K28","v":5},5,59]
[{"$nulls":4},"財　務　省","経済学等専門研修制度",null,"１年又は２年",{"$f":"[1]R3!I29+[1]R3!J29","v":33},{"$f":"[1]R3!K29","v":3},5,41]
[{"$nulls":5},"税関研修所大学委託研修制度",null,"１年、２年又は３年",{"$f":"[1]R3!I30+[1]R3!J30","v":89},{"$f":"[1]R3!K30","v":6},9,104]
[{"$nulls":5},"財務局経済学等研究員派遣制度",null,"２年",{"$f":"[1]R3!I31+[1]R3!J31","v":12},{"$f":"[1]R3!K31","v":2},2,16]
[{"$nulls":4},"国税庁","税務大学校研究科博士前期課程受講コース",null,"原則15か月",{"$f":"[1]R3!I32+[1]R3!J32","v":103},{"$f":"[1]R3!K32","v":10},13,126]
[{"$nulls":4},"文部科学省","放射線対策行政官国内研究員(専門職大学院コース)制度",null,"１年",{"$f":"[1]R3!I33+[1]R3!J33","v":8},null,null,8]
[{"$nulls":5},"国内大学院派遣制度",null,"２年以内",{"$f":"[1]R3!I34+[1]R3!J34","v":0},{"$f":"[1]R3!K34","v":0},1,1]
[{"$nulls":4},"文化庁","文化政策関係行政官国内研究員派遣制度",null,"２年",{"$f":"[1]R3!I35+[1]R3!J35","v":2},{"$f":"[1]R3!K35","v":0},0,2]
[{"$nulls":4},"農林水産省","検査・監察部国内会計専門職大学院派遣制度",null,"２年以内",{"$f":"[1]R3!I36+[1]R3!J36","v":5},{"$f":"[1]R3!K36","v":0},1,6]
[{"$nulls":5},"国内大学院(事業構想修士)派遣制度",null,"２年以内",{"$f":"[1]R3!I37+[1]R3!J37","v":1},{"$f":"[1]R3!K37","v":0},1,2]
[{"$nulls":4},"経済産業省","国内大学院経済等研修",null,"２年以内",{"$f":"[1]R3!I38+[1]R3!J38","v":13},{"$f":"[1]R3!K38","v":1},0,14]
[{"$nulls":4},"特許庁","国内大学院課程履修研修",null,"原則１年",{"$f":"[1]R3!I39+[1]R3!J39","v":30},{"$f":"[1]R3!K39","v":1},0,31]
[{"$nulls":4},"国土交通省","国内政策研究員派遣制度",null,"２年",{"$f":"[1]R3!I40+[1]R3!J40","v":3},{"$f":"[1]R3!K40","v":0},0,3]
[{"$nulls":4},"海上保安庁","国内大学院派遣制度",null,"期間の定めなし",{"$f":"[1]R3!I41+[1]R3!J41","v":31},{"$f":"[1]R3!K41","v":4},3,38]
[{"$nulls":4},"原子力規制庁","原子力規制委員会原子力規制行政官国内研究員制度",null,"２年以内",{"$f":"[1]R3!I42+[1]R3!J42","v":18},{"$f":"[1]R3!K42","v":1},0,19]
[{"$nulls":4},"防衛省","国内一般大学留学","（修士課程）","原則１年又は２年",{"$f":"[1]R3!I43+[1]R3!J43","v":230},{"$f":"[1]R3!K43","v":16},16,262]
[{"$nulls":6},"（博士課程）","原則３年又は４年",{"$f":"[1]R3!I44+[1]R3!J44","v":137},{"$f":"[1]R3!K44","v":12},18,167]
[{"$nulls":5},"防衛大学校理工学研究科留学","（前期課程）","２年",{"$f":"[1]R3!I45+[1]R3!J45","v":636},{"$f":"[1]R3!K45","v":38},47,721]
[{"$nulls":6},"（後期課程）","３年",{"$f":"[1]R3!I46+[1]R3!J46","v":59},{"$f":"[1]R3!K46","v":7},4,70]
[{"$nulls":5},"防衛大学校総合安全保障研究科留学","（前期課程）","原則２年",{"$f":"[1]R3!I47+[1]R3!J47","v":153},{"$f":"[1]R3!K47","v":7},11,171]
[{"$nulls":6},"（後期課程）","３年",{"$f":"[1]R3!I48+[1]R3!J48","v":26},{"$f":"[1]R3!K48","v":0},0,26]
[{"$nulls":5},"防衛医科大学校医学研究科留学",null,"４年",{"$f":"[1]R3!I49+[1]R3!J49","v":275},{"$f":"[1]R3!K49","v":26},24,325]
[{"$nulls":4},"造幣局","派遣研修",null,"期間の定めなし",{"$f":"[1]R3!I50+[1]R3!J50","v":1},{"$f":"[1]R3!K50","v":0},0,1]
[{"$nulls":4},"製品評価技\n術基盤機構","長期派遣研修制度",null,"原則６か月以上２年以内",{"$f":"[1]R3!I51+[1]R3!J51","v":7},{"$f":"[1]R3!K51","v":0},0,7]
[null,null,null,"小　　        　計",{"$nulls":4},{"$f":"SUM(I23:I51)","v":2182},{"$f":"SUM(J23:J51)","v":157},{"$f":"SUM(K23:K51)","v":178},{"$f":"SUM(L23:L51)","v":2517}]
["合　　　　　　計",{"$nulls":7},{"$f":"I52+I22","v":5539},{"$f":"J52+J22","v":382},{"$f":"K52+K22","v":460},{"$f":"L52+L22","v":6381}]
["(注)１　「研修の名称」及び「留学期間」は、年度により違いがある場合についても、令和３年度の名称及び期間で統一して表記した。"]
["　　２　「全府省等研修」とは、全府省等の職員を対象とする研修であり、「自府省等研修」とは、その所属職員を対象として実施す"]
["　　　　る研修である。"]
["　　３　文部科学省「放射線対策行政官国内研究員(専門職大学院コース）制度」は平成25年３月31日で廃止となった。"]