{"text_format":"2","workbook":"xlsx","n_sheets":3,"sheets":["様式","記入例","集計（非表示）"],"not_rendered":{"charts":0,"images":0,"macros":0,"external_links":0,"defined_names":2,"comments":2,"pivot_tables":0},"unopened":[],"bounds":{"document_bytes":16777216,"sheet_cells":100000,"run_cost":"one","rows_first":2000,"rows_last":500,"rows_between":2000,"halvings":0,"cell_chars":16384,"cell_head_chars":4096},"cells_cut":0,"cells_raw":0,"read":"whole","date_system":"1900"}

{"sheet":"様式","index":0,"n_rows":72,"n_cols":20,"rows_kept":72,"cut":false,"hidden":false,"merged":[[37,14,37,15],[43,1,43,5],[30,0,30,19],[31,0,31,19],[32,0,32,19],[33,0,33,19],[34,0,34,19],[41,12,44,19],[10,0,10,2],[10,7,10,10],[11,0,11,2],[11,4,11,5],[18,0,18,19],[10,11,10,13],[10,3,10,6],[16,0,16,4],[11,7,11,9],[13,3,13,9],[12,0,12,19],[14,0,14,2],[13,0,13,2],[17,0,17,19],[0,0,0,19],[4,0,4,2],[3,14,3,19],[5,0,6,2],[6,16,9,17],[9,0,9,2],[9,7,9,9],[4,3,4,13],[5,3,6,13],[7,0,8,2],[8,5,8,6],[8,10,8,11],[9,3,9,5],[9,10,9,13],[2,13,2,19],[7,3,7,13],[3,0,3,2],[3,3,3,13],[55,0,69,0],[55,1,55,5],[53,0,53,3],[49,1,49,12],[46,0,49,0],[52,0,52,3],[46,1,46,10],[46,14,46,15],[47,1,47,3],[47,5,47,7],[48,14,48,15],[49,14,49,15],[52,4,52,19],[47,9,47,11],[47,14,47,15],[46,17,46,18],[47,17,47,18],[48,17,48,18],[49,17,49,18],[48,1,48,3],[37,10,37,11],[14,3,14,9],[48,5,48,7],[48,9,48,11],[41,6,41,7],[55,6,55,9],[55,10,55,19],[41,9,41,10],[42,6,42,7],[42,9,42,10],[43,6,43,7],[43,9,43,10],[44,6,44,7],[44,9,44,10],[19,0,19,19],[20,0,20,19],[21,0,21,19],[44,1,44,5],[42,1,42,5],[41,1,41,5],[22,12,22,19],[23,0,23,19],[24,0,24,19],[37,16,37,17],[53,4,53,19],[56,1,69,5],[56,6,69,9],[14,13,14,19],[22,0,22,11],[39,0,40,5],[39,6,40,11],[37,0,37,1],[37,2,37,3],[37,4,37,5],[37,6,37,7],[37,8,37,9],[25,0,25,19],[26,0,26,19],[27,0,27,19],[28,0,28,19],[29,5,29,19],[16,5,16,19],[56,10,69,19],[14,10,14,12],[29,0,29,4],[39,12,40,19],[37,12,37,13],[37,18,37,19]]}
["人事院第2次選考試験面接シート"]
[]
[{"$nulls":12},"訪問日"]
["面接方式",{"$nulls":13},"写真貼付欄"]
["ふりがな"]
["氏　　名"]
[{"$nulls":16},"顔写真\n縦４cm\n横３cm\n貼付\n"]
["生年月日"]
[null,null,null," （西暦",null,null,null,"年","）","（",{"$f":"DATEDIF(D8,N3,\"y\")","v":0},null,"歳","）"]
["受験年度",null,null,2023,null,null,"年度","試験地"]
["試験区分",{"$nulls":6},"受験番号"]
["現住所",null,null,"〒",null,null,"－"]
[]
["（固定電話）"]
["携帯番号",{"$nulls":9},"メールアドレス"]
[]
["人事院を志望する理由"]
[]
[]
[]
[]
[]
["これまで力を入れてきたこと及び今後取り組みたいこと"]
[]
[]
[]
[]
[]
[]
["自己ＰＲ（長所や人柄等）"]
[]
[]
[]
[]
[]
[]
["〔 事務使用欄 〕"]
[]
[]
["志望官庁順\n（人事院を含む）",{"$nulls":5},"訪問日（訪問予定日）",{"$nulls":5},"他の就職先への併願状況"]
[]
[1,{"$nulls":7},"月",null,null,"日"]
[2,{"$nulls":7},"月",null,null,"日"]
[3,{"$nulls":7},"月",null,null,"日"]
[4,{"$nulls":7},"月",null,null,"日"]
[]
["学　　歴",{"$nulls":10},"高等学校",null,"（",null,null,"年","卒業",null,"）"]
[{"$nulls":4},"大学",null,null,null,"学部",null,null,null,"学科","（",null,null,"年",null,null,"）"]
[{"$nulls":4},"大学院",null,null,null,"研究科",null,null,null,"専攻","（",null,null,"年",null,null,"）"]
[{"$nulls":13},"（",null,null,"年",null,null,"）"]
["※大学・大学院は学部、学科、専攻等まで記入してください"]
[]
["資格（取得時期）\n（取得時期例：H**.4）"]
["趣味・特技"]
[]
["職　歴","企業名等",{"$nulls":4},"期間",null,null,null,"職種や担当業務等"]
{"$rows_empty":15}
["〔 事務使用欄 〕"]

{"sheet":"記入例","index":1,"n_rows":72,"n_cols":20,"rows_kept":72,"cut":false,"hidden":false,"merged":[[6,16,9,17],[7,0,8,2],[7,3,7,13],[8,5,8,6],[8,10,8,11],[9,0,9,2],[9,3,9,5],[9,7,9,9],[0,0,0,19],[2,13,2,19],[3,0,3,2],[3,3,3,13],[3,14,3,19],[4,0,4,2],[4,3,4,13],[9,10,9,13],[10,0,10,2],[10,3,10,6],[10,7,10,10],[10,11,10,13],[11,0,11,2],[11,4,11,5],[11,7,11,9],[5,0,6,2],[5,3,6,13],[16,0,16,4],[16,5,16,19],[17,0,17,19],[18,0,18,19],[19,0,19,19],[20,0,20,19],[12,0,12,19],[13,0,13,2],[13,3,13,9],[14,0,14,2],[14,3,14,9],[14,10,14,12],[14,13,14,19],[26,0,26,19],[27,0,27,19],[28,0,28,19],[29,0,29,4],[29,5,29,19],[30,0,30,19],[21,0,21,19],[22,0,22,11],[22,12,22,19],[23,0,23,19],[24,0,24,19],[25,0,25,19],[37,12,37,13],[37,14,37,15],[37,16,37,17],[37,18,37,19],[39,0,40,5],[39,6,40,11],[39,12,40,19],[31,0,31,19],[32,0,32,19],[33,0,33,19],[34,0,34,19],[37,0,37,1],[37,2,37,3],[37,4,37,5],[37,6,37,7],[37,8,37,9],[37,10,37,11],[41,1,41,5],[41,6,41,7],[41,9,41,10],[41,12,44,19],[42,1,42,5],[42,6,42,7],[42,9,42,10],[43,1,43,5],[43,6,43,7],[43,9,43,10],[44,1,44,5],[44,6,44,7],[44,9,44,10],[46,17,46,18],[47,1,47,3],[47,5,47,7],[47,9,47,11],[47,14,47,15],[47,17,47,18],[53,0,53,3],[53,4,53,19],[46,0,49,0],[46,1,46,10],[46,14,46,15],[48,1,48,3],[48,5,48,7],[48,9,48,11],[48,14,48,15],[48,17,48,18],[49,1,49,12],[49,14,49,15],[49,17,49,18],[55,0,69,0],[55,1,55,5],[55,6,55,9],[55,10,55,19],[56,1,69,5],[56,6,69,9],[56,10,69,19],[52,0,52,3],[52,4,52,19]]}
["人事院第2次選考試験面接シート【記入例】"]
[]
[{"$nulls":12},"訪問日","2023-12-08"]
["面接方式",null,null,"対面",{"$nulls":10},"写真貼付欄"]
["ふりがな",null,null,"じんじ　たろう"]
["氏　　名",null,null,"人事　太郎"]
[{"$nulls":16},"顔写真\n縦４cm\n横３cm\n貼付\n"]
["生年月日",null,null,"1984-04-10"]
[null,null,null," （西暦",null,1984,null,"年","）","（",{"$f":"DATEDIF(D8,N3,\"y\")","v":39},null,"歳","）"]
["受験年度",null,null,2023,null,null,"年度","試験地",null,null,"東京都"]
["試験区分",null,null,"事務",null,null,null,"受験番号",null,null,null,12345]
["現住所",null,null,"〒",100,null,"－","8913"]
["東京都千代田区霞が関1－2－3"]
["（固定電話）"]
["携帯番号",null,null,"090-××××-××××",{"$nulls":6},"メールアドレス",null,null,"○○○○@××.go.jp"]
[]
["人事院を志望する理由"]
[]
[]
[]
[]
[]
["これまで力を入れてきたこと及び今後取り組みたいこと"]
[]
[]
[]
[]
[]
[]
["自己ＰＲ（長所や人柄等）"]
[]
[]
[]
[]
[]
[]
["〔 事務使用欄 〕"]
[]
[]
["志望官庁順\n（人事院を含む）",{"$nulls":5},"訪問日（訪問予定日）",{"$nulls":5},"他の就職先への併願状況"]
[]
[1,"人事院",{"$nulls":4},12,null,"月",6,null,"日","株式会社D"]
[2,"A省",{"$nulls":4},12,null,"月",7,null,"日"]
[3,"B省",{"$nulls":4},12,null,"月",8,null,"日"]
[4,"C省",{"$nulls":4},12,null,"月",11,null,"日"]
[]
["学　　歴","●●",{"$nulls":9},"高等学校",null,"（","平成15",null,"年","卒業",null,"）"]
[null,"▲▲",null,null,"大学","▲▲",null,null,"学部","▲▲",null,null,"学科","（","平成19",null,"年","卒業",null,"）"]
[null,"■■",null,null,"大学院","■■",null,null,"研究科","■■",null,null,"専攻","（","平成21",null,"年","修了",null,"）"]
[{"$nulls":13},"（",null,null,"年",null,null,"）"]
["※大学・大学院は学部、学科、専攻等まで記入してください"]
[]
["資格（取得時期）\n（取得時期例：H**.4）"]
["趣味・特技"]
[]
["職　歴","企業名等",{"$nulls":4},"期間",null,null,null,"職種や担当業務等"]
{"$rows_empty":15}
["〔 事務使用欄 〕"]

{"sheet":"集計（非表示）","index":2,"n_rows":2,"n_cols":30,"rows_kept":2,"cut":false,"hidden":true,"merged":[]}
["訪問日","ふりがな","氏名","生年月日","西暦","年齢","受験年度","試験区分","最終学歴","学部等","卒業年度","試験地","受験番号","郵便番号","現住所","固定電話","携帯番号","メール","志望官庁１","志望官庁２","志望官庁３","志望官庁４","他就職先","高校","大学","学部","学科","大学院","研究科","専攻"]
[{"$f":"様式!N3","v":"00:00:00"},{"$f":"様式!D5","v":0},{"$f":"様式!D6","v":0},{"$f":"様式!D8","v":"00:00:00"},{"$f":"様式!F9","v":0},{"$f":"様式!K9","v":0},{"$f":"様式!D10","v":2023},{"$f":"様式!D11","v":0},{"$f":"IF(AB2<>0,AB2&\"大学院\",Y2&\"大学\")","v":"0大学"},{"$f":"IF(AB2<>0,AC2&\"研究科\"&AD2&\"専攻\",Z2&\"学部\"&AA2&\"学科\")","v":"0学部0学科"},{"$f":"IF(AB2<>0,様式!$O$49&様式!$R$49,様式!$O$48&様式!$R$48)","v":""},{"$f":"様式!K10","v":0},{"$f":"様式!L11","v":0},{"$f":"様式!E12&\"-\"&様式!H12","v":"-"},{"$f":"様式!A13","v":0},{"$f":"様式!D14","v":0},{"$f":"様式!D15","v":0},{"$f":"様式!N15","v":0},{"$f":"様式!B42","v":0},{"$f":"様式!B43","v":0},{"$f":"様式!B44","v":0},{"$f":"様式!B45","v":0},{"$f":"様式!M42","v":0},{"$f":"様式!B47","v":0},{"$f":"様式!B48","v":0},{"$f":"様式!F48","v":0},{"$f":"様式!J48","v":0},{"$f":"様式!B49","v":0},{"$f":"様式!F49","v":0},{"$f":"様式!J49","v":0}]